BEGIN:VCALENDAR
METHOD:PUBLISH
PRODID:Data::ICal 0.13
VERSION:2.0
BEGIN:VEVENT
DESCRIPTION:
DTSTAMP:20260423T160835Z
DTSTART;TZID=America/New_York:20180214T190000
DTEND;TZID=America/New_York:20180214T220000
LOCATION:303 SW Greenville Blvd.\, Greenville\, NC\, 27834
SUMMARY:Jaquees Performing Live At Greenville Convention Center
UID:5724970-1518634800-1518645600
END:VEVENT
END:VCALENDAR
