BEGIN:VCALENDAR
METHOD:PUBLISH
PRODID:Data::ICal 0.13
VERSION:2.0
BEGIN:VEVENT
DESCRIPTION:CLICK HERE FOR TICKETS!
DTSTAMP:20260425T170006Z
DTSTART;TZID=America/New_York:20180609T190000
DTEND;TZID=America/New_York:20180609T220000
LOCATION:1400 Edwards Mill Rd.\, Raleigh\, NC
SUMMARY:Love &amp; Laughter Tour Ft. Tank, Silk, Major, Lloyd And More
UID:5753716-1528570800-1528581600
END:VEVENT
END:VCALENDAR
