BEGIN:VCALENDAR
METHOD:PUBLISH
PRODID:Data::ICal 0.13
VERSION:2.0
BEGIN:VEVENT
DESCRIPTION:North Carolina Official All White Affair-Vanilla Sky 2021\nDresscode: All White Preferred but not mandatory\n\n[caption id=&quot;attachment_6104395&quot; align=&quot;alignnone&quot; width=&quot;1024&quot;] Source: Seven Productions / Seven Productions[/caption]
DTSTAMP:20260425T161343Z
DTSTART;TZID=America/New_York:20210710T220000
DTEND;TZID=America/New_York:20210711T000000
LOCATION:421 S Salisbury St.\, Raleigh\, NC\, 27601
SUMMARY:North Carolina Official All White Affair
UID:6104393-1625954400-1625961600
END:VEVENT
END:VCALENDAR
