BEGIN:VCALENDAR
METHOD:PUBLISH
PRODID:Data::ICal 0.13
VERSION:2.0
BEGIN:VEVENT
DESCRIPTION:
DTSTAMP:20260420T182024Z
DTSTART;TZID=America/New_York:20170317T190000
DTEND;TZID=America/New_York:20170317T220000
LOCATION:1400 Edwards Mill Rd.\, Raleigh\, NC\, 27607
SUMMARY:R Kelly With Special Guest, Monica At The PNC Arena
UID:5659334-1489777200-1489788000
END:VEVENT
END:VCALENDAR
