BEGIN:VCALENDAR
METHOD:PUBLISH
PRODID:Data::ICal 0.13
VERSION:2.0
BEGIN:VEVENT
DESCRIPTION:
DTSTAMP:20260423T125349Z
DTSTART;TZID=America/New_York:20170326T220000
DTEND;TZID=America/New_York:20170327T020000
LOCATION:132 E. Industry Drive\, #108-A\, Oxford\, NC\, 27565
SUMMARY:Blac Youngsta At Lavish Lounge
UID:5591185-1490565600-1490580000
END:VEVENT
END:VCALENDAR
